[dpdk-test-report] |SUCCESS| pw63410-63409 [PATCH] [1/9] net/hns3: support Rx interrupt

dpdklab at iol.unh.edu dpdklab at iol.unh.edu
Sun Dec 1 11:13:19 CET 2019


Test-Label: iol-compilation
Test-Status: SUCCESS
http://dpdk.org/patch/63410

_Compile Testing PASS_

Submitter: Wei Hu (Xavier) <xavier.huwei at foxmail.com>
Date: Saturday, November 30 2019 10:58:08 
DPDK git baseline: Repo:dpdk
  Branch: master
  CommitID:7001c8fdb27357c67147c0a13cb3826e48c0f2bf

63410-63409 --> compile testing pass

Test environment and result as below:

+--------------+--------------+-------------------+------------------+
| Environment  | dpdk_compile | dpdk_compile_spdk | dpdk_compile_ovs |
+==============+==============+===================+==================+
| Ubuntu 18.04 | PASS         | PASS              | PASS             |
+--------------+--------------+-------------------+------------------+
| FreeBSD 11.2 | PASS         | PASS              | SKIPPED          |
+--------------+--------------+-------------------+------------------+
| CentOS 8     | PASS         | SKIPPED           | PASS             |
+--------------+--------------+-------------------+------------------+

Ubuntu 18.04
	Kernel: 4.15.0-generic
	GCC: 7.4

FreeBSD 11.2
	Kernel: 11.2
	GCC: 8.3

CentOS 8
	Kernel: 4.18.0.el8_0
	GCC: 8.2

https://lab.dpdk.org/results/dashboard/patchsets/8776/

UNH-IOL DPDK Performance Test Lab

To manage your email subscriptions visit: 
https://lab.dpdk.org/results/dashboard/preferences/subscriptions/


More information about the test-report mailing list