[dpdk-test-report] |SUCCESS| pw63504-63507 [PATCH] [1/4] eal/windows: fix cpuset macro name

dpdklab at iol.unh.edu dpdklab at iol.unh.edu
Mon Dec 2 17:27:08 CET 2019


Test-Label: iol-compilation
Test-Status: SUCCESS
http://dpdk.org/patch/63504

_Compile Testing PASS_

Submitter: David Marchand <david.marchand at redhat.com>
Date: Monday, December 02 2019 15:41:46 
DPDK git baseline: Repo:dpdk
  Branch: master
  CommitID:7001c8fdb27357c67147c0a13cb3826e48c0f2bf

63504-63507 --> compile testing pass

Test environment and result as below:

+--------------+--------------+-------------------+------------------+
| Environment  | dpdk_compile | dpdk_compile_spdk | dpdk_compile_ovs |
+==============+==============+===================+==================+
| Ubuntu 18.04 | PASS         | PASS              | PASS             |
+--------------+--------------+-------------------+------------------+
| FreeBSD 11.2 | PASS         | PASS              | SKIPPED          |
+--------------+--------------+-------------------+------------------+
| CentOS 8     | PASS         | SKIPPED           | PASS             |
+--------------+--------------+-------------------+------------------+

Ubuntu 18.04
	Kernel: 4.15.0-generic
	GCC: 7.4

FreeBSD 11.2
	Kernel: 11.2
	GCC: 8.3

CentOS 8
	Kernel: 4.18.0.el8_0
	GCC: 8.2

https://lab.dpdk.org/results/dashboard/patchsets/8788/

UNH-IOL DPDK Performance Test Lab

To manage your email subscriptions visit: 
https://lab.dpdk.org/results/dashboard/preferences/subscriptions/


More information about the test-report mailing list