[dpdk-test-report] |SUCCESS| pw63546 [PATCH] [v2] vhost: add config change slave msg support

dpdklab at iol.unh.edu dpdklab at iol.unh.edu
Wed Dec 4 07:02:34 CET 2019


Test-Label: iol-compilation
Test-Status: SUCCESS
http://dpdk.org/patch/63546

_Compile Testing PASS_

Submitter: Li Feng <fengli at smartx.com>
Date: Wednesday, December 04 2019 05:01:11 
DPDK git baseline: Repo:dpdk
  Branch: master
  CommitID:d51827a9815d1e1b97828013ea2ef4760cf61dc9

63546 --> compile testing pass

Test environment and result as below:

+--------------+----------------+---------------+--------------+---------------+
| Environment  | dpdk_compile_s | dpdk_meson_co | dpdk_compile | dpdk_compile_ |
|              |      pdk       |     mpile     |              |      ovs      |
+==============+================+===============+==============+===============+
| Ubuntu 18.04 | PASS           | PASS          | PASS         | PASS          |
+--------------+----------------+---------------+--------------+---------------+
| FreeBSD 11.2 | PASS           | PASS          | PASS         | SKIPPED       |
+--------------+----------------+---------------+--------------+---------------+
| CentOS 8     | SKIPPED        | PASS          | PASS         | PASS          |
+--------------+----------------+---------------+--------------+---------------+

Ubuntu 18.04
	Kernel: 4.15.0-generic
	GCC: 7.4

FreeBSD 11.2
	Kernel: 11.2
	GCC: 8.3

CentOS 8
	Kernel: 4.18.0.el8_0
	GCC: 8.2

https://lab.dpdk.org/results/dashboard/patchsets/8802/

UNH-IOL DPDK Performance Test Lab

To manage your email subscriptions visit: 
https://lab.dpdk.org/results/dashboard/preferences/subscriptions/


More information about the test-report mailing list