[dpdk-test-report] |SUCCESS| [GIT MASTER] d51827a9815d1e1b97828013ea2ef4760cf61dc9
dpdklab at iol.unh.edu
dpdklab at iol.unh.edu
Wed Dec 4 22:07:39 CET 2019
_Testing PASS_
Branch: dpdk
d51827a9815d1e1b97828013ea2ef4760cf61dc9 --> testing pass
Test environment and result as below:
+-------------+------------+------------+------------+------------+------------+
| Environment | dpdk_compi | dpdk_unit_ | dpdk_compi | dpdk_compi | dpdk_meson |
| | le_spdk | test | le | le_ovs | _compile |
+=============+============+============+============+============+============+
| FreeBSD | PASS | SKIPPED | PASS | SKIPPED | PASS |
| 11.2 | | | | | |
+-------------+------------+------------+------------+------------+------------+
| Ubuntu | PASS | PASS | PASS | PASS | PASS |
| 18.04 | | | | | |
+-------------+------------+------------+------------+------------+------------+
| CentOS 8 | SKIPPED | SKIPPED | PASS | PASS | PASS |
+-------------+------------+------------+------------+------------+------------+
FreeBSD 11.2
Kernel: 11.2
GCC: 8.3
Ubuntu 18.04
Kernel: 4.15.0-generic
GCC: 7.4
CentOS 8
Kernel: 4.18.0.el8_0
GCC: 8.2
https://lab.dpdk.org/results/dashboard/tarballs/7357/
UNH-IOL DPDK Performance Test Lab
To manage your email subscriptions visit:
https://lab.dpdk.org/results/dashboard/preferences/subscriptions/
More information about the test-report
mailing list