[dpdk-test-report] |SUCCESS| pw63575 [PATCH] test/common: fix log2 check
dpdklab at iol.unh.edu
dpdklab at iol.unh.edu
Wed Dec 4 22:47:35 CET 2019
Test-Label: iol-testing
Test-Status: SUCCESS
http://dpdk.org/patch/63575
_Testing PASS_
Submitter: David Marchand <david.marchand at redhat.com>
Date: Wednesday, December 04 2019 20:52:41
DPDK git baseline: Repo:dpdk
Branch: master
CommitID:d51827a9815d1e1b97828013ea2ef4760cf61dc9
63575 --> testing pass
Test environment and result as below:
+--------------+--------------+------------------+--------------------+----------------+-------------------+
| Environment | dpdk_compile | dpdk_compile_ovs | dpdk_meson_compile | dpdk_unit_test | dpdk_compile_spdk |
+==============+==============+==================+====================+================+===================+
| FreeBSD 11.2 | PASS | SKIPPED | PASS | SKIPPED | PASS |
+--------------+--------------+------------------+--------------------+----------------+-------------------+
| Ubuntu 18.04 | PASS | PASS | PASS | PASS | PASS |
+--------------+--------------+------------------+--------------------+----------------+-------------------+
| CentOS 8 | PASS | PASS | PASS | SKIPPED | SKIPPED |
+--------------+--------------+------------------+--------------------+----------------+-------------------+
FreeBSD 11.2
Kernel: 11.2
GCC: 8.3
Ubuntu 18.04
Kernel: 4.15.0-generic
GCC: 7.4
CentOS 8
Kernel: 4.18.0.el8_0
GCC: 8.2
https://lab.dpdk.org/results/dashboard/patchsets/8815/
UNH-IOL DPDK Performance Test Lab
To manage your email subscriptions visit:
https://lab.dpdk.org/results/dashboard/preferences/subscriptions/
More information about the test-report
mailing list