[dpdk-test-report] |SUCCESS| [GIT MASTER] 5d02febe0db4515557fc106cdadd4a33a5a02686

dpdklab at iol.unh.edu dpdklab at iol.unh.edu
Thu Dec 5 01:35:58 CET 2019


_Testing PASS_

Branch: dpdk-next-net-intel

5d02febe0db4515557fc106cdadd4a33a5a02686 --> testing pass

Test environment and result as below:

+--------------+--------------+------------------+--------------------+-------------------+----------------+
| Environment  | dpdk_compile | dpdk_compile_ovs | dpdk_meson_compile | dpdk_compile_spdk | dpdk_unit_test |
+==============+==============+==================+====================+===================+================+
| FreeBSD 11.2 | PASS         | SKIPPED          | PASS               | PASS              | SKIPPED        |
+--------------+--------------+------------------+--------------------+-------------------+----------------+
| Ubuntu 18.04 | PASS         | PASS             | PASS               | PASS              | PASS           |
+--------------+--------------+------------------+--------------------+-------------------+----------------+
| CentOS 8     | PASS         | PASS             | PASS               | SKIPPED           | SKIPPED        |
+--------------+--------------+------------------+--------------------+-------------------+----------------+

FreeBSD 11.2
	Kernel: 11.2
	GCC: 8.3

Ubuntu 18.04
	Kernel: 4.15.0-generic
	GCC: 7.4

CentOS 8
	Kernel: 4.18.0.el8_0
	GCC: 8.2

https://lab.dpdk.org/results/dashboard/tarballs/7385/

UNH-IOL DPDK Performance Test Lab

To manage your email subscriptions visit: 
https://lab.dpdk.org/results/dashboard/preferences/subscriptions/


More information about the test-report mailing list