[dpdk-test-report] |SUCCESS| [GIT MASTER] aef1d0733179afb56916e95058a4f1398b81af04
dpdklab at iol.unh.edu
dpdklab at iol.unh.edu
Thu Dec 5 16:41:00 CET 2019
_Testing PASS_
Branch: dpdk-next-net-mlx
aef1d0733179afb56916e95058a4f1398b81af04 --> testing pass
Test environment and result as below:
+--------------+------------------+-------------------+--------------------+--------------+----------------+
| Environment | dpdk_compile_ovs | dpdk_compile_spdk | dpdk_meson_compile | dpdk_compile | dpdk_unit_test |
+==============+==================+===================+====================+==============+================+
| Ubuntu 18.04 | PASS | PASS | PASS | PASS | PASS |
+--------------+------------------+-------------------+--------------------+--------------+----------------+
| CentOS 8 | PASS | SKIPPED | PASS | PASS | SKIPPED |
+--------------+------------------+-------------------+--------------------+--------------+----------------+
| FreeBSD 11.2 | SKIPPED | PASS | PASS | PASS | SKIPPED |
+--------------+------------------+-------------------+--------------------+--------------+----------------+
Ubuntu 18.04
Kernel: 4.15.0-generic
GCC: 7.4
CentOS 8
Kernel: 4.18.0.el8_0
GCC: 8.2
FreeBSD 11.2
Kernel: 11.2
GCC: 8.3
https://lab.dpdk.org/results/dashboard/tarballs/7390/
UNH-IOL DPDK Performance Test Lab
To manage your email subscriptions visit:
https://lab.dpdk.org/results/dashboard/preferences/subscriptions/
More information about the test-report
mailing list