[dpdk-test-report] |SUCCESS| pw63617-63619 [PATCH] [1/3] ethdev: add RSS hash level

dpdklab at iol.unh.edu dpdklab at iol.unh.edu
Sat Dec 7 02:44:47 CET 2019


Test-Label: iol-testing
Test-Status: SUCCESS
http://dpdk.org/patch/63617

_Testing PASS_

Submitter: Ajit Khaparde <ajit.khaparde at broadcom.com>
Date: Saturday, December 07 2019 00:59:17 
DPDK git baseline: Repo:dpdk-next-net
  Branch: master
  CommitID:007ee14bbc65bc6dbf1673f3cc1785c5e074b6be

63617-63619 --> testing pass

Test environment and result as below:

+--------------+--------------+------------------+--------------------+----------------+-------------------+
| Environment  | dpdk_compile | dpdk_compile_ovs | dpdk_meson_compile | dpdk_unit_test | dpdk_compile_spdk |
+==============+==============+==================+====================+================+===================+
| Ubuntu 18.04 | PASS         | PASS             | PASS               | PASS           | PASS              |
+--------------+--------------+------------------+--------------------+----------------+-------------------+
| FreeBSD 11.2 | PASS         | SKIPPED          | PASS               | SKIPPED        | PASS              |
+--------------+--------------+------------------+--------------------+----------------+-------------------+
| CentOS 8     | PASS         | PASS             | PASS               | SKIPPED        | SKIPPED           |
+--------------+--------------+------------------+--------------------+----------------+-------------------+

Ubuntu 18.04
	Kernel: 4.15.0-generic
	GCC: 7.4

FreeBSD 11.2
	Kernel: 11.2
	GCC: 8.3

CentOS 8
	Kernel: 4.18.0.el8_0
	GCC: 8.2

https://lab.dpdk.org/results/dashboard/patchsets/8827/

UNH-IOL DPDK Performance Test Lab

To manage your email subscriptions visit: 
https://lab.dpdk.org/results/dashboard/preferences/subscriptions/


More information about the test-report mailing list