[dpdk-test-report] |SUCCESS| pw63621 [PATCH] ethdev: allow multiple security sessions to use one rte flow

dpdklab at iol.unh.edu dpdklab at iol.unh.edu
Sun Dec 8 12:30:21 CET 2019


Test-Label: iol-testing
Test-Status: SUCCESS
http://dpdk.org/patch/63621

_Testing PASS_

Submitter: Anoob Joseph <anoobj at marvell.com>
Date: Sunday, December 08 2019 10:41:23 
DPDK git baseline: Repo:dpdk
  Branch: master
  CommitID:aef1d0733179afb56916e95058a4f1398b81af04

63621 --> testing pass

Test environment and result as below:

+--------------+--------------+-------------------+----------------+------------------+--------------------+
| Environment  | dpdk_compile | dpdk_compile_spdk | dpdk_unit_test | dpdk_compile_ovs | dpdk_meson_compile |
+==============+==============+===================+================+==================+====================+
| Ubuntu 18.04 | PASS         | PASS              | PASS           | PASS             | PASS               |
+--------------+--------------+-------------------+----------------+------------------+--------------------+
| FreeBSD 11.2 | PASS         | PASS              | SKIPPED        | SKIPPED          | PASS               |
+--------------+--------------+-------------------+----------------+------------------+--------------------+
| CentOS 8     | PASS         | SKIPPED           | SKIPPED        | PASS             | PASS               |
+--------------+--------------+-------------------+----------------+------------------+--------------------+

Ubuntu 18.04
	Kernel: 4.15.0-generic
	GCC: 7.4

FreeBSD 11.2
	Kernel: 11.2
	GCC: 8.3

CentOS 8
	Kernel: 4.18.0.el8_0
	GCC: 8.2

https://lab.dpdk.org/results/dashboard/patchsets/8828/

UNH-IOL DPDK Performance Test Lab

To manage your email subscriptions visit: 
https://lab.dpdk.org/results/dashboard/preferences/subscriptions/


More information about the test-report mailing list