[dpdk-test-report] |SUCCESS| pw63622-63624 [PATCH] [1/3] eal: introduce structure marker typedefs

dpdklab at iol.unh.edu dpdklab at iol.unh.edu
Sun Dec 8 13:00:02 CET 2019


Test-Label: iol-testing
Test-Status: SUCCESS
http://dpdk.org/patch/63622

_Testing PASS_

Submitter: Jerin Jacob Kollanukkaran <jerinj at marvell.com>
Date: Sunday, December 08 2019 11:34:11 
DPDK git baseline: Repo:dpdk
  Branch: master
  CommitID:aef1d0733179afb56916e95058a4f1398b81af04

63622-63624 --> testing pass

Test environment and result as below:

+--------------+--------------------+-------------------+--------------+------------------+----------------+
| Environment  | dpdk_meson_compile | dpdk_compile_spdk | dpdk_compile | dpdk_compile_ovs | dpdk_unit_test |
+==============+====================+===================+==============+==================+================+
| Ubuntu 18.04 | PASS               | PASS              | PASS         | PASS             | PASS           |
+--------------+--------------------+-------------------+--------------+------------------+----------------+
| CentOS 8     | PASS               | SKIPPED           | PASS         | PASS             | SKIPPED        |
+--------------+--------------------+-------------------+--------------+------------------+----------------+
| FreeBSD 11.2 | PASS               | PASS              | PASS         | SKIPPED          | SKIPPED        |
+--------------+--------------------+-------------------+--------------+------------------+----------------+

Ubuntu 18.04
	Kernel: 4.15.0-generic
	GCC: 7.4

CentOS 8
	Kernel: 4.18.0.el8_0
	GCC: 8.2

FreeBSD 11.2
	Kernel: 11.2
	GCC: 8.3

https://lab.dpdk.org/results/dashboard/patchsets/8829/

UNH-IOL DPDK Performance Test Lab

To manage your email subscriptions visit: 
https://lab.dpdk.org/results/dashboard/preferences/subscriptions/


More information about the test-report mailing list