[dpdk-test-report] |SUCCESS| pw63657-63662 [PATCH] [v1, 1/6] raw/octeontx2_ep: add build infra and device probe

dpdklab at iol.unh.edu dpdklab at iol.unh.edu
Sun Dec 8 17:29:53 CET 2019


Test-Label: iol-testing
Test-Status: SUCCESS
http://dpdk.org/patch/63657

_Testing PASS_

Submitter: Mahipal Challa <mchalla at marvell.com>
Date: Sunday, December 08 2019 15:35:37 
DPDK git baseline: Repo:dpdk
  Branch: master
  CommitID:aef1d0733179afb56916e95058a4f1398b81af04

63657-63662 --> testing pass

Test environment and result as below:

+--------------+------------------+-------------------+--------------+----------------+--------------------+
| Environment  | dpdk_compile_ovs | dpdk_compile_spdk | dpdk_compile | dpdk_unit_test | dpdk_meson_compile |
+==============+==================+===================+==============+================+====================+
| Ubuntu 18.04 | PASS             | PASS              | PASS         | PASS           | PASS               |
+--------------+------------------+-------------------+--------------+----------------+--------------------+
| CentOS 8     | PASS             | SKIPPED           | PASS         | SKIPPED        | PASS               |
+--------------+------------------+-------------------+--------------+----------------+--------------------+
| FreeBSD 11.2 | SKIPPED          | PASS              | PASS         | SKIPPED        | PASS               |
+--------------+------------------+-------------------+--------------+----------------+--------------------+

Ubuntu 18.04
	Kernel: 4.15.0-generic
	GCC: 7.4

CentOS 8
	Kernel: 4.18.0.el8_0
	GCC: 8.2

FreeBSD 11.2
	Kernel: 11.2
	GCC: 8.3

https://lab.dpdk.org/results/dashboard/patchsets/8832/

UNH-IOL DPDK Performance Test Lab

To manage your email subscriptions visit: 
https://lab.dpdk.org/results/dashboard/preferences/subscriptions/


More information about the test-report mailing list