[dpdk-test-report] |SUCCESS| pw63665 [PATCH] [v1] net/virtio-user: fix packed ring server mode
dpdklab at iol.unh.edu
dpdklab at iol.unh.edu
Mon Dec 9 20:35:42 CET 2019
Test-Label: iol-testing
Test-Status: SUCCESS
http://dpdk.org/patch/63665
_Testing PASS_
Submitter: Xuan Ding <xuan.ding at intel.com>
Date: Monday, December 09 2019 16:49:38
DPDK git baseline: Repo:dpdk
Branch: master
CommitID:aef1d0733179afb56916e95058a4f1398b81af04
63665 --> testing pass
Test environment and result as below:
+--------------+--------------------+--------------+-------------------+----------------+------------------+
| Environment | dpdk_meson_compile | dpdk_compile | dpdk_compile_spdk | dpdk_unit_test | dpdk_compile_ovs |
+==============+====================+==============+===================+================+==================+
| Ubuntu 18.04 | PASS | PASS | PASS | PASS | PASS |
+--------------+--------------------+--------------+-------------------+----------------+------------------+
| FreeBSD 11.2 | PASS | PASS | PASS | SKIPPED | SKIPPED |
+--------------+--------------------+--------------+-------------------+----------------+------------------+
| CentOS 8 | PASS | PASS | SKIPPED | SKIPPED | PASS |
+--------------+--------------------+--------------+-------------------+----------------+------------------+
Ubuntu 18.04
Kernel: 4.15.0-generic
GCC: 7.4
FreeBSD 11.2
Kernel: 11.2
GCC: 8.3
CentOS 8
Kernel: 4.18.0.el8_0
GCC: 8.2
https://lab.dpdk.org/results/dashboard/patchsets/8835/
UNH-IOL DPDK Performance Test Lab
To manage your email subscriptions visit:
https://lab.dpdk.org/results/dashboard/preferences/subscriptions/
More information about the test-report
mailing list