[dpdk-test-report] |SUCCESS| pw63678-63694 [PATCH] [v3, 01/17] net/ionic: add skeleton
dpdklab at iol.unh.edu
dpdklab at iol.unh.edu
Mon Dec 9 23:30:45 CET 2019
Test-Label: iol-testing
Test-Status: SUCCESS
http://dpdk.org/patch/63678
_Testing PASS_
Submitter: Alfredo Cardigliano <cardigliano at ntop.org>
Date: Monday, December 09 2019 21:46:40
DPDK git baseline: Repo:dpdk
Branch: master
CommitID:aef1d0733179afb56916e95058a4f1398b81af04
63678-63694 --> testing pass
Test environment and result as below:
+--------------+--------------------+------------------+--------------+----------------+-------------------+
| Environment | dpdk_meson_compile | dpdk_compile_ovs | dpdk_compile | dpdk_unit_test | dpdk_compile_spdk |
+==============+====================+==================+==============+================+===================+
| FreeBSD 11.2 | PASS | SKIPPED | PASS | SKIPPED | PASS |
+--------------+--------------------+------------------+--------------+----------------+-------------------+
| Ubuntu 18.04 | PASS | PASS | PASS | PASS | PASS |
+--------------+--------------------+------------------+--------------+----------------+-------------------+
| CentOS 8 | PASS | PASS | PASS | SKIPPED | SKIPPED |
+--------------+--------------------+------------------+--------------+----------------+-------------------+
FreeBSD 11.2
Kernel: 11.2
GCC: 8.3
Ubuntu 18.04
Kernel: 4.15.0-generic
GCC: 7.4
CentOS 8
Kernel: 4.18.0.el8_0
GCC: 8.2
https://lab.dpdk.org/results/dashboard/patchsets/8841/
UNH-IOL DPDK Community Lab
To manage your email subscriptions visit:
https://lab.dpdk.org/results/dashboard/preferences/subscriptions/
More information about the test-report
mailing list