[dpdk-test-report] |SUCCESS| [GIT MASTER] 53d40bbaa0428239094cb3da4f82cb1bc8c0303d
dpdklab at iol.unh.edu
dpdklab at iol.unh.edu
Tue Dec 10 20:39:45 CET 2019
_Testing PASS_
Branch: dpdk-next-net
53d40bbaa0428239094cb3da4f82cb1bc8c0303d --> testing pass
Test environment and result as below:
+--------------+------------------+----------------+--------------------+-------------------+--------------+
| Environment | dpdk_compile_ovs | dpdk_unit_test | dpdk_meson_compile | dpdk_compile_spdk | dpdk_compile |
+==============+==================+================+====================+===================+==============+
| Ubuntu 18.04 | PASS | PASS | PASS | PASS | PASS |
+--------------+------------------+----------------+--------------------+-------------------+--------------+
| CentOS 8 | PASS | SKIPPED | PASS | SKIPPED | PASS |
+--------------+------------------+----------------+--------------------+-------------------+--------------+
| FreeBSD 11.2 | SKIPPED | SKIPPED | SKIPPED | PASS | SKIPPED |
+--------------+------------------+----------------+--------------------+-------------------+--------------+
Ubuntu 18.04
Kernel: 4.15.0-generic
GCC: 7.4
CentOS 8
Kernel: 4.18.0.el8_0
GCC: 8.2
FreeBSD 11.2
Kernel: 11.2
GCC: 8.3
https://lab.dpdk.org/results/dashboard/tarballs/7422/
UNH-IOL DPDK Community Lab
To manage your email subscriptions visit:
https://lab.dpdk.org/results/dashboard/preferences/subscriptions/
More information about the test-report
mailing list