[dpdk-test-report] |SUCCESS| pw63736-63735 [PATCH] [1/2] examples/ip_pipeline: fix crypto queue config

dpdklab at iol.unh.edu dpdklab at iol.unh.edu
Wed Dec 11 07:16:58 CET 2019


Test-Label: iol-testing
Test-Status: SUCCESS
http://dpdk.org/patch/63736

_Testing PASS_

Submitter: Hemant Agrawal <hemant.agrawal at nxp.com>
Date: Wednesday, December 11 2019 05:25:33 
DPDK git baseline: Repo:dpdk
  Branch: master
  CommitID:aef1d0733179afb56916e95058a4f1398b81af04

63736-63735 --> testing pass

Test environment and result as below:

+--------------+-------------------+--------------+----------------+------------------+--------------------+
| Environment  | dpdk_compile_spdk | dpdk_compile | dpdk_unit_test | dpdk_compile_ovs | dpdk_meson_compile |
+==============+===================+==============+================+==================+====================+
| Ubuntu 18.04 | PASS              | PASS         | PASS           | PASS             | PASS               |
+--------------+-------------------+--------------+----------------+------------------+--------------------+
| FreeBSD 11.2 | PASS              | PASS         | SKIPPED        | SKIPPED          | PASS               |
+--------------+-------------------+--------------+----------------+------------------+--------------------+
| CentOS 8     | SKIPPED           | PASS         | SKIPPED        | PASS             | PASS               |
+--------------+-------------------+--------------+----------------+------------------+--------------------+

Ubuntu 18.04
	Kernel: 4.15.0-generic
	GCC: 7.4

FreeBSD 11.2
	Kernel: 11.2
	GCC: 8.3

CentOS 8
	Kernel: 4.18.0.el8_0
	GCC: 8.2

https://lab.dpdk.org/results/dashboard/patchsets/8864/

UNH-IOL DPDK Community Lab

To manage your email subscriptions visit: 
https://lab.dpdk.org/results/dashboard/preferences/subscriptions/


More information about the test-report mailing list