[dpdk-test-report] |SUCCESS| pw63765 [PATCH] [v2] build: fix soname info for 19.11 compatiblity
dpdklab at iol.unh.edu
dpdklab at iol.unh.edu
Wed Dec 11 18:03:28 CET 2019
Test-Label: iol-testing
Test-Status: SUCCESS
http://dpdk.org/patch/63765
_Testing PASS_
Submitter: Bruce Richardson <bruce.richardson at intel.com>
Date: Wednesday, December 11 2019 15:16:28
DPDK git baseline: Repo:dpdk
Branch: master
CommitID:aef1d0733179afb56916e95058a4f1398b81af04
63765 --> testing pass
Test environment and result as below:
+--------------+--------------+------------------+-------------------+----------------+--------------------+
| Environment | dpdk_compile | dpdk_compile_ovs | dpdk_compile_spdk | dpdk_unit_test | dpdk_meson_compile |
+==============+==============+==================+===================+================+====================+
| Ubuntu 18.04 | PASS | PASS | PASS | PASS | PASS |
+--------------+--------------+------------------+-------------------+----------------+--------------------+
| FreeBSD 11.2 | PASS | SKIPPED | PASS | SKIPPED | PASS |
+--------------+--------------+------------------+-------------------+----------------+--------------------+
| CentOS 8 | PASS | PASS | SKIPPED | SKIPPED | PASS |
+--------------+--------------+------------------+-------------------+----------------+--------------------+
Ubuntu 18.04
Kernel: 4.15.0-generic
GCC: 7.4
FreeBSD 11.2
Kernel: 11.2
GCC: 8.3
CentOS 8
Kernel: 4.18.0.el8_0
GCC: 8.2
https://lab.dpdk.org/results/dashboard/patchsets/8877/
UNH-IOL DPDK Community Lab
To manage your email subscriptions visit:
https://lab.dpdk.org/results/dashboard/preferences/subscriptions/
More information about the test-report
mailing list