[dpdk-test-report] |SUCCESS| pw63774-63777 [PATCH] [1/4] ipsec: move ipsec sad name length into .h

dpdklab at iol.unh.edu dpdklab at iol.unh.edu
Wed Dec 11 18:35:49 CET 2019


Test-Label: iol-testing
Test-Status: SUCCESS
http://dpdk.org/patch/63774

_Testing PASS_

Submitter: Vladimir Medvedkin <vladimir.medvedkin at intel.com>
Date: Wednesday, December 11 2019 16:45:31 
DPDK git baseline: Repo:dpdk
  Branch: master
  CommitID:aef1d0733179afb56916e95058a4f1398b81af04

63774-63777 --> testing pass

Test environment and result as below:

+--------------+--------------------+------------------+--------------+----------------+-------------------+
| Environment  | dpdk_meson_compile | dpdk_compile_ovs | dpdk_compile | dpdk_unit_test | dpdk_compile_spdk |
+==============+====================+==================+==============+================+===================+
| FreeBSD 11.2 | PASS               | SKIPPED          | PASS         | SKIPPED        | PASS              |
+--------------+--------------------+------------------+--------------+----------------+-------------------+
| CentOS 8     | PASS               | PASS             | PASS         | SKIPPED        | SKIPPED           |
+--------------+--------------------+------------------+--------------+----------------+-------------------+
| Ubuntu 18.04 | PASS               | PASS             | PASS         | PASS           | PASS              |
+--------------+--------------------+------------------+--------------+----------------+-------------------+

FreeBSD 11.2
	Kernel: 11.2
	GCC: 8.3

CentOS 8
	Kernel: 4.18.0.el8_0
	GCC: 8.2

Ubuntu 18.04
	Kernel: 4.15.0-generic
	GCC: 7.4

https://lab.dpdk.org/results/dashboard/patchsets/8881/

UNH-IOL DPDK Community Lab

To manage your email subscriptions visit: 
https://lab.dpdk.org/results/dashboard/preferences/subscriptions/


More information about the test-report mailing list