[dpdk-test-report] |SUCCESS| pw63772 [PATCH] [v6] build: add dockerfile for building docker image
dpdklab at iol.unh.edu
dpdklab at iol.unh.edu
Wed Dec 11 18:51:40 CET 2019
Test-Label: iol-testing
Test-Status: SUCCESS
http://dpdk.org/patch/63772
_Testing PASS_
Submitter: Abdul Halim <abdul.halim at intel.com>
Date: Wednesday, December 11 2019 16:39:04
DPDK git baseline: Repo:dpdk
Branch: master
CommitID:aef1d0733179afb56916e95058a4f1398b81af04
63772 --> testing pass
Test environment and result as below:
+--------------+-------------------+--------------+--------------------+----------------+------------------+
| Environment | dpdk_compile_spdk | dpdk_compile | dpdk_meson_compile | dpdk_unit_test | dpdk_compile_ovs |
+==============+===================+==============+====================+================+==================+
| Ubuntu 18.04 | PASS | PASS | PASS | PASS | PASS |
+--------------+-------------------+--------------+--------------------+----------------+------------------+
| FreeBSD 11.2 | PASS | PASS | PASS | SKIPPED | SKIPPED |
+--------------+-------------------+--------------+--------------------+----------------+------------------+
| CentOS 8 | SKIPPED | PASS | PASS | SKIPPED | PASS |
+--------------+-------------------+--------------+--------------------+----------------+------------------+
Ubuntu 18.04
Kernel: 4.15.0-generic
GCC: 7.4
FreeBSD 11.2
Kernel: 11.2
GCC: 8.3
CentOS 8
Kernel: 4.18.0.el8_0
GCC: 8.2
https://lab.dpdk.org/results/dashboard/patchsets/8880/
UNH-IOL DPDK Community Lab
To manage your email subscriptions visit:
https://lab.dpdk.org/results/dashboard/preferences/subscriptions/
More information about the test-report
mailing list