[dpdk-test-report] |SUCCESS| pw63753-63754 [PATCH] [v2, 1/2] crypto/qat: handle mixed hash-cipher requests on GEN3 QAT
dpdklab at iol.unh.edu
dpdklab at iol.unh.edu
Wed Dec 11 19:42:37 CET 2019
Test-Label: iol-testing
Test-Status: SUCCESS
http://dpdk.org/patch/63753
_Testing PASS_
Submitter: Adam Dybkowski <adamx.dybkowski at intel.com>
Date: Wednesday, December 11 2019 14:09:34
DPDK git baseline: Repo:dpdk
Branch: master
CommitID:aef1d0733179afb56916e95058a4f1398b81af04
63753-63754 --> testing pass
Test environment and result as below:
+--------------+--------------+------------------+--------------------+-------------------+----------------+
| Environment | dpdk_compile | dpdk_compile_ovs | dpdk_meson_compile | dpdk_compile_spdk | dpdk_unit_test |
+==============+==============+==================+====================+===================+================+
| FreeBSD 11.2 | PASS | SKIPPED | PASS | PASS | SKIPPED |
+--------------+--------------+------------------+--------------------+-------------------+----------------+
| Ubuntu 18.04 | PASS | PASS | PASS | PASS | PASS |
+--------------+--------------+------------------+--------------------+-------------------+----------------+
| CentOS 8 | PASS | PASS | PASS | SKIPPED | SKIPPED |
+--------------+--------------+------------------+--------------------+-------------------+----------------+
FreeBSD 11.2
Kernel: 11.2
GCC: 8.3
Ubuntu 18.04
Kernel: 4.15.0-generic
GCC: 7.4
CentOS 8
Kernel: 4.18.0.el8_0
GCC: 8.2
https://lab.dpdk.org/results/dashboard/patchsets/8873/
UNH-IOL DPDK Community Lab
To manage your email subscriptions visit:
https://lab.dpdk.org/results/dashboard/preferences/subscriptions/
More information about the test-report
mailing list