[dpdk-test-report] |SUCCESS| [GIT MASTER] c5b7b8d48c1f9e1ae5f7a9e3e6779078606a1bc2
dpdklab at iol.unh.edu
dpdklab at iol.unh.edu
Wed Dec 11 20:48:14 CET 2019
_Testing PASS_
Branch: dpdk-next-net
c5b7b8d48c1f9e1ae5f7a9e3e6779078606a1bc2 --> testing pass
Test environment and result as below:
+--------------+-------------------+--------------+--------------------+----------------+------------------+
| Environment | dpdk_compile_spdk | dpdk_compile | dpdk_meson_compile | dpdk_unit_test | dpdk_compile_ovs |
+==============+===================+==============+====================+================+==================+
| Ubuntu 18.04 | PASS | PASS | PASS | PASS | PASS |
+--------------+-------------------+--------------+--------------------+----------------+------------------+
| FreeBSD 11.2 | PASS | PASS | PASS | SKIPPED | SKIPPED |
+--------------+-------------------+--------------+--------------------+----------------+------------------+
| CentOS 8 | SKIPPED | PASS | PASS | SKIPPED | PASS |
+--------------+-------------------+--------------+--------------------+----------------+------------------+
Ubuntu 18.04
Kernel: 4.15.0-generic
GCC: 7.4
FreeBSD 11.2
Kernel: 11.2
GCC: 8.3
CentOS 8
Kernel: 4.18.0.el8_0
GCC: 8.2
https://lab.dpdk.org/results/dashboard/tarballs/7445/
UNH-IOL DPDK Community Lab
To manage your email subscriptions visit:
https://lab.dpdk.org/results/dashboard/preferences/subscriptions/
More information about the test-report
mailing list