[dpdk-test-report] |SUCCESS| pw63740 [PATCH] maintainers: adjust maintainership of intel tree
dpdklab at iol.unh.edu
dpdklab at iol.unh.edu
Wed Dec 11 21:23:27 CET 2019
Test-Label: iol-testing
Test-Status: SUCCESS
http://dpdk.org/patch/63740
_Testing PASS_
Submitter: Xiaolong Ye <xiaolong.ye at intel.com>
Date: Wednesday, December 11 2019 09:12:35
DPDK git baseline: Repo:dpdk
Branch: master
CommitID:aef1d0733179afb56916e95058a4f1398b81af04
63740 --> testing pass
Test environment and result as below:
+--------------+-------------------+--------------------+--------------+----------------+------------------+
| Environment | dpdk_compile_spdk | dpdk_meson_compile | dpdk_compile | dpdk_unit_test | dpdk_compile_ovs |
+==============+===================+====================+==============+================+==================+
| Ubuntu 18.04 | PASS | PASS | PASS | PASS | PASS |
+--------------+-------------------+--------------------+--------------+----------------+------------------+
| FreeBSD 11.2 | PASS | PASS | PASS | SKIPPED | SKIPPED |
+--------------+-------------------+--------------------+--------------+----------------+------------------+
| CentOS 8 | SKIPPED | PASS | PASS | SKIPPED | PASS |
+--------------+-------------------+--------------------+--------------+----------------+------------------+
Ubuntu 18.04
Kernel: 4.15.0-generic
GCC: 7.4
FreeBSD 11.2
Kernel: 11.2
GCC: 8.3
CentOS 8
Kernel: 4.18.0.el8_0
GCC: 8.2
https://lab.dpdk.org/results/dashboard/patchsets/8868/
UNH-IOL DPDK Community Lab
To manage your email subscriptions visit:
https://lab.dpdk.org/results/dashboard/preferences/subscriptions/
More information about the test-report
mailing list