[dpdk-test-report] |SUCCESS| [GIT MASTER] 10691dd450428665489594fd18a989fd4f332f7d
dpdklab at iol.unh.edu
dpdklab at iol.unh.edu
Thu Dec 12 01:35:15 CET 2019
_Testing PASS_
Branch: dpdk-next-net-intel
10691dd450428665489594fd18a989fd4f332f7d --> testing pass
Test environment and result as below:
+--------------+--------------+-------------------+------------------+----------------+--------------------+
| Environment | dpdk_compile | dpdk_compile_spdk | dpdk_compile_ovs | dpdk_unit_test | dpdk_meson_compile |
+==============+==============+===================+==================+================+====================+
| Ubuntu 18.04 | PASS | PASS | PASS | PASS | PASS |
+--------------+--------------+-------------------+------------------+----------------+--------------------+
| FreeBSD 11.2 | PASS | PASS | SKIPPED | SKIPPED | PASS |
+--------------+--------------+-------------------+------------------+----------------+--------------------+
| CentOS 8 | PASS | SKIPPED | PASS | SKIPPED | PASS |
+--------------+--------------+-------------------+------------------+----------------+--------------------+
Ubuntu 18.04
Kernel: 4.15.0-generic
GCC: 7.4
FreeBSD 11.2
Kernel: 11.2
GCC: 8.3
CentOS 8
Kernel: 4.18.0.el8_0
GCC: 8.2
https://lab.dpdk.org/results/dashboard/tarballs/7450/
UNH-IOL DPDK Community Lab
To manage your email subscriptions visit:
https://lab.dpdk.org/results/dashboard/preferences/subscriptions/
More information about the test-report
mailing list