[dpdk-test-report] |SUCCESS| pw63789 [PATCH] [v3] build: fix soname info for 19.11 compatiblity
dpdklab at iol.unh.edu
dpdklab at iol.unh.edu
Thu Dec 12 14:01:57 CET 2019
Test-Label: iol-testing
Test-Status: SUCCESS
http://dpdk.org/patch/63789
_Testing PASS_
Submitter: Bruce Richardson <bruce.richardson at intel.com>
Date: Thursday, December 12 2019 11:58:26
DPDK git baseline: Repo:dpdk
Branch: master
CommitID:aef1d0733179afb56916e95058a4f1398b81af04
63789 --> testing pass
Test environment and result as below:
+--------------+------------------+-------------------+--------------------+--------------+----------------+
| Environment | dpdk_compile_ovs | dpdk_compile_spdk | dpdk_meson_compile | dpdk_compile | dpdk_unit_test |
+==============+==================+===================+====================+==============+================+
| Ubuntu 18.04 | PASS | PASS | PASS | PASS | PASS |
+--------------+------------------+-------------------+--------------------+--------------+----------------+
| CentOS 8 | PASS | SKIPPED | PASS | PASS | SKIPPED |
+--------------+------------------+-------------------+--------------------+--------------+----------------+
| FreeBSD 11.2 | SKIPPED | PASS | PASS | PASS | SKIPPED |
+--------------+------------------+-------------------+--------------------+--------------+----------------+
Ubuntu 18.04
Kernel: 4.15.0-generic
GCC: 7.4
CentOS 8
Kernel: 4.18.0.el8_0
GCC: 8.2
FreeBSD 11.2
Kernel: 11.2
GCC: 8.3
https://lab.dpdk.org/results/dashboard/patchsets/8890/
UNH-IOL DPDK Community Lab
To manage your email subscriptions visit:
https://lab.dpdk.org/results/dashboard/preferences/subscriptions/
More information about the test-report
mailing list