[dpdk-test-report] |SUCCESS| pw63831 [PATCH] event/dsw: add by-name xstats retrieval
dpdklab at iol.unh.edu
dpdklab at iol.unh.edu
Thu Dec 12 20:30:49 CET 2019
Test-Label: iol-testing
Test-Status: SUCCESS
http://dpdk.org/patch/63831
_Testing PASS_
Submitter: Mattias Rönnblom <mattias.ronnblom at ericsson.com>
Date: Thursday, December 12 2019 18:44:13
DPDK git baseline: Repo:dpdk
Branch: master
CommitID:aef1d0733179afb56916e95058a4f1398b81af04
63831 --> testing pass
Test environment and result as below:
+--------------+--------------+--------------------+------------------+----------------+-------------------+
| Environment | dpdk_compile | dpdk_meson_compile | dpdk_compile_ovs | dpdk_unit_test | dpdk_compile_spdk |
+==============+==============+====================+==================+================+===================+
| Ubuntu 18.04 | PASS | PASS | PASS | PASS | PASS |
+--------------+--------------+--------------------+------------------+----------------+-------------------+
| FreeBSD 11.2 | PASS | PASS | SKIPPED | SKIPPED | PASS |
+--------------+--------------+--------------------+------------------+----------------+-------------------+
| CentOS 8 | PASS | PASS | PASS | SKIPPED | SKIPPED |
+--------------+--------------+--------------------+------------------+----------------+-------------------+
Ubuntu 18.04
Kernel: 4.15.0-generic
GCC: 7.4
FreeBSD 11.2
Kernel: 11.2
GCC: 8.3
CentOS 8
Kernel: 4.18.0.el8_0
GCC: 8.2
https://lab.dpdk.org/results/dashboard/patchsets/8895/
UNH-IOL DPDK Community Lab
To manage your email subscriptions visit:
https://lab.dpdk.org/results/dashboard/preferences/subscriptions/
More information about the test-report
mailing list