[dpdk-test-report] |SUCCESS| pw63832 [PATCH] [v2] net/iavf: fix Rx total stats
dpdklab at iol.unh.edu
dpdklab at iol.unh.edu
Fri Dec 13 03:00:38 CET 2019
Test-Label: iol-testing
Test-Status: SUCCESS
http://dpdk.org/patch/63832
_Testing PASS_
Submitter: Jiaqi Min <jiaqix.min at intel.com>
Date: Friday, December 13 2019 01:23:29
DPDK git baseline: Repo:dpdk
Branch: master
CommitID:aef1d0733179afb56916e95058a4f1398b81af04
63832 --> testing pass
Test environment and result as below:
+--------------+--------------+--------------------+----------------+-------------------+------------------+
| Environment | dpdk_compile | dpdk_meson_compile | dpdk_unit_test | dpdk_compile_spdk | dpdk_compile_ovs |
+==============+==============+====================+================+===================+==================+
| FreeBSD 11.2 | PASS | PASS | SKIPPED | PASS | SKIPPED |
+--------------+--------------+--------------------+----------------+-------------------+------------------+
| Ubuntu 18.04 | PASS | PASS | PASS | PASS | PASS |
+--------------+--------------+--------------------+----------------+-------------------+------------------+
| CentOS 8 | PASS | PASS | SKIPPED | SKIPPED | PASS |
+--------------+--------------+--------------------+----------------+-------------------+------------------+
FreeBSD 11.2
Kernel: 11.2
GCC: 8.3
Ubuntu 18.04
Kernel: 4.15.0-generic
GCC: 7.4
CentOS 8
Kernel: 4.18.0.el8_0
GCC: 8.2
https://lab.dpdk.org/results/dashboard/patchsets/8896/
UNH-IOL DPDK Community Lab
To manage your email subscriptions visit:
https://lab.dpdk.org/results/dashboard/preferences/subscriptions/
More information about the test-report
mailing list