[dpdk-test-report] |SUCCESS| pw63845-63848 [PATCH] [1/4] eal: add new API to register contiguous external memory

dpdklab at iol.unh.edu dpdklab at iol.unh.edu
Fri Dec 13 16:31:57 CET 2019


Test-Label: iol-testing
Test-Status: SUCCESS
http://dpdk.org/patch/63845

_Testing PASS_

Submitter: Maxime Coquelin <maxime.coquelin at redhat.com>
Date: Friday, December 13 2019 14:13:19 
DPDK git baseline: Repo:dpdk
  Branch: master
  CommitID:aef1d0733179afb56916e95058a4f1398b81af04

63845-63848 --> testing pass

Test environment and result as below:

+--------------+------------------+-------------------+--------------+--------------------+----------------+
| Environment  | dpdk_compile_ovs | dpdk_compile_spdk | dpdk_compile | dpdk_meson_compile | dpdk_unit_test |
+==============+==================+===================+==============+====================+================+
| Ubuntu 18.04 | PASS             | PASS              | PASS         | PASS               | PASS           |
+--------------+------------------+-------------------+--------------+--------------------+----------------+
| CentOS 8     | PASS             | SKIPPED           | PASS         | PASS               | SKIPPED        |
+--------------+------------------+-------------------+--------------+--------------------+----------------+
| FreeBSD 11.2 | SKIPPED          | PASS              | PASS         | PASS               | SKIPPED        |
+--------------+------------------+-------------------+--------------+--------------------+----------------+

Ubuntu 18.04
	Kernel: 4.15.0-generic
	GCC: 7.4

CentOS 8
	Kernel: 4.18.0.el8_0
	GCC: 8.2

FreeBSD 11.2
	Kernel: 11.2
	GCC: 8.3

https://lab.dpdk.org/results/dashboard/patchsets/8903/

UNH-IOL DPDK Community Lab

To manage your email subscriptions visit: 
https://lab.dpdk.org/results/dashboard/preferences/subscriptions/


More information about the test-report mailing list