[dpdk-test-report] |SUCCESS| [GIT MASTER] 9442a58cf5edfa3e4a734506c98ef85522a656dd
dpdklab at iol.unh.edu
dpdklab at iol.unh.edu
Fri Dec 13 20:33:49 CET 2019
_Testing PASS_
Branch: dpdk-next-net
9442a58cf5edfa3e4a734506c98ef85522a656dd --> testing pass
Test environment and result as below:
+--------------+-------------------+--------------------+----------------+--------------+------------------+
| Environment | dpdk_compile_spdk | dpdk_meson_compile | dpdk_unit_test | dpdk_compile | dpdk_compile_ovs |
+==============+===================+====================+================+==============+==================+
| Ubuntu 18.04 | PASS | PASS | PASS | PASS | PASS |
+--------------+-------------------+--------------------+----------------+--------------+------------------+
| FreeBSD 11.2 | PASS | PASS | SKIPPED | PASS | SKIPPED |
+--------------+-------------------+--------------------+----------------+--------------+------------------+
| CentOS 8 | SKIPPED | PASS | SKIPPED | PASS | PASS |
+--------------+-------------------+--------------------+----------------+--------------+------------------+
Ubuntu 18.04
Kernel: 4.15.0-generic
GCC: 7.4
FreeBSD 11.2
Kernel: 11.2
GCC: 8.3
CentOS 8
Kernel: 4.18.0.el8_0
GCC: 8.2
https://lab.dpdk.org/results/dashboard/tarballs/7470/
UNH-IOL DPDK Community Lab
To manage your email subscriptions visit:
https://lab.dpdk.org/results/dashboard/preferences/subscriptions/
More information about the test-report
mailing list