[dpdk-test-report] |SUCCESS| pw63936 [PATCH] common/octeontx2: reduce wait time for mbox messages

dpdklab at iol.unh.edu dpdklab at iol.unh.edu
Mon Dec 16 16:30:17 CET 2019


Test-Label: iol-testing
Test-Status: SUCCESS
http://dpdk.org/patch/63936

_Testing PASS_

Submitter: Sunil Kumar Kori <skori at marvell.com>
Date: Monday, December 16 2019 14:55:09 
DPDK git baseline: Repo:dpdk
  Branch: master
  CommitID:c3e89f69facbbfe131b6a6723665d48801ac943d

63936 --> testing pass

Test environment and result as below:

+--------------+-------------------+--------------+----------------+------------------+--------------------+
| Environment  | dpdk_compile_spdk | dpdk_compile | dpdk_unit_test | dpdk_compile_ovs | dpdk_meson_compile |
+==============+===================+==============+================+==================+====================+
| Ubuntu 18.04 | PASS              | PASS         | PASS           | PASS             | PASS               |
+--------------+-------------------+--------------+----------------+------------------+--------------------+
| FreeBSD 11.2 | PASS              | PASS         | SKIPPED        | SKIPPED          | PASS               |
+--------------+-------------------+--------------+----------------+------------------+--------------------+
| CentOS 8     | SKIPPED           | PASS         | SKIPPED        | PASS             | PASS               |
+--------------+-------------------+--------------+----------------+------------------+--------------------+

Ubuntu 18.04
	Kernel: 4.15.0-generic
	GCC: 7.4

FreeBSD 11.2
	Kernel: 11.2
	GCC: 8.3

CentOS 8
	Kernel: 4.18.0.el8_0
	GCC: 8.2

https://lab.dpdk.org/results/dashboard/patchsets/8928/

UNH-IOL DPDK Community Lab

To manage your email subscriptions visit: 
https://lab.dpdk.org/results/dashboard/preferences/subscriptions/


More information about the test-report mailing list