[dpdk-test-report] |SUCCESS| pw63931 [PATCH] [v2] net/virtio-user: fix packed ring server mode

dpdklab at iol.unh.edu dpdklab at iol.unh.edu
Mon Dec 16 16:46:39 CET 2019


Test-Label: iol-testing
Test-Status: SUCCESS
http://dpdk.org/patch/63931

_Testing PASS_

Submitter: Xuan Ding <xuan.ding at intel.com>
Date: Monday, December 16 2019 10:16:31 
DPDK git baseline: Repo:dpdk
  Branch: master
  CommitID:c3e89f69facbbfe131b6a6723665d48801ac943d

63931 --> testing pass

Test environment and result as below:

+--------------+--------------------+--------------+----------------+------------------+-------------------+
| Environment  | dpdk_meson_compile | dpdk_compile | dpdk_unit_test | dpdk_compile_ovs | dpdk_compile_spdk |
+==============+====================+==============+================+==================+===================+
| Ubuntu 18.04 | PASS               | PASS         | PASS           | PASS             | PASS              |
+--------------+--------------------+--------------+----------------+------------------+-------------------+
| CentOS 8     | PASS               | PASS         | SKIPPED        | PASS             | SKIPPED           |
+--------------+--------------------+--------------+----------------+------------------+-------------------+
| FreeBSD 11.2 | PASS               | PASS         | SKIPPED        | SKIPPED          | PASS              |
+--------------+--------------------+--------------+----------------+------------------+-------------------+

Ubuntu 18.04
	Kernel: 4.15.0-generic
	GCC: 7.4

CentOS 8
	Kernel: 4.18.0.el8_0
	GCC: 8.2

FreeBSD 11.2
	Kernel: 11.2
	GCC: 8.3

https://lab.dpdk.org/results/dashboard/patchsets/8925/

UNH-IOL DPDK Community Lab

To manage your email subscriptions visit: 
https://lab.dpdk.org/results/dashboard/preferences/subscriptions/


More information about the test-report mailing list