[dpdk-test-report] |SUCCESS| pw63938 [PATCH] devtools: fix debug build test

dpdklab at iol.unh.edu dpdklab at iol.unh.edu
Mon Dec 16 17:20:01 CET 2019


Test-Label: iol-testing
Test-Status: SUCCESS
http://dpdk.org/patch/63938

_Testing PASS_

Submitter: Thomas Monjalon <thomas at monjalon.net>
Date: Monday, December 16 2019 15:29:17 
DPDK git baseline: Repo:dpdk
  Branch: master
  CommitID:c3e89f69facbbfe131b6a6723665d48801ac943d

63938 --> testing pass

Test environment and result as below:

+--------------+-------------------+--------------+----------------+------------------+--------------------+
| Environment  | dpdk_compile_spdk | dpdk_compile | dpdk_unit_test | dpdk_compile_ovs | dpdk_meson_compile |
+==============+===================+==============+================+==================+====================+
| Ubuntu 18.04 | PASS              | PASS         | PASS           | PASS             | PASS               |
+--------------+-------------------+--------------+----------------+------------------+--------------------+
| FreeBSD 11.2 | PASS              | PASS         | SKIPPED        | SKIPPED          | PASS               |
+--------------+-------------------+--------------+----------------+------------------+--------------------+
| CentOS 8     | SKIPPED           | PASS         | SKIPPED        | PASS             | PASS               |
+--------------+-------------------+--------------+----------------+------------------+--------------------+

Ubuntu 18.04
	Kernel: 4.15.0-generic
	GCC: 7.4

FreeBSD 11.2
	Kernel: 11.2
	GCC: 8.3

CentOS 8
	Kernel: 4.18.0.el8_0
	GCC: 8.2

https://lab.dpdk.org/results/dashboard/patchsets/8930/

UNH-IOL DPDK Community Lab

To manage your email subscriptions visit: 
https://lab.dpdk.org/results/dashboard/preferences/subscriptions/


More information about the test-report mailing list