[dpdk-test-report] |SUCCESS| pw63930 [PATCH] net/mlx5: fix multiple flow table hash list

dpdklab at iol.unh.edu dpdklab at iol.unh.edu
Mon Dec 16 18:08:22 CET 2019


Test-Label: iol-testing
Test-Status: SUCCESS
http://dpdk.org/patch/63930

_Testing PASS_

Submitter: Xiaoyu Min <jackmin at mellanox.com>
Date: Monday, December 16 2019 09:27:41 
DPDK git baseline: Repo:dpdk
  Branch: master
  CommitID:c3e89f69facbbfe131b6a6723665d48801ac943d

63930 --> testing pass

Test environment and result as below:

+--------------+--------------------+-------------------+--------------+----------------+------------------+
| Environment  | dpdk_meson_compile | dpdk_compile_spdk | dpdk_compile | dpdk_unit_test | dpdk_compile_ovs |
+==============+====================+===================+==============+================+==================+
| Ubuntu 18.04 | PASS               | PASS              | PASS         | PASS           | PASS             |
+--------------+--------------------+-------------------+--------------+----------------+------------------+
| FreeBSD 11.2 | PASS               | PASS              | PASS         | SKIPPED        | SKIPPED          |
+--------------+--------------------+-------------------+--------------+----------------+------------------+
| CentOS 8     | PASS               | SKIPPED           | PASS         | SKIPPED        | PASS             |
+--------------+--------------------+-------------------+--------------+----------------+------------------+

Ubuntu 18.04
	Kernel: 4.15.0-generic
	GCC: 7.4

FreeBSD 11.2
	Kernel: 11.2
	GCC: 8.3

CentOS 8
	Kernel: 4.18.0.el8_0
	GCC: 8.2

https://lab.dpdk.org/results/dashboard/patchsets/8924/

UNH-IOL DPDK Community Lab

To manage your email subscriptions visit: 
https://lab.dpdk.org/results/dashboard/preferences/subscriptions/


More information about the test-report mailing list