[dpdk-test-report] |SUCCESS| pw63924 [PATCH] bus/pci: restricted bus scanning to allowed devices

dpdklab at iol.unh.edu dpdklab at iol.unh.edu
Mon Dec 16 18:23:54 CET 2019


Test-Label: iol-testing
Test-Status: SUCCESS
http://dpdk.org/patch/63924

_Testing PASS_

Submitter: Sunil Kumar Kori <skori at marvell.com>
Date: Monday, December 16 2019 07:55:01 
DPDK git baseline: Repo:dpdk
  Branch: master
  CommitID:c3e89f69facbbfe131b6a6723665d48801ac943d

63924 --> testing pass

Test environment and result as below:

+--------------+------------------+-------------------+--------------------+----------------+--------------+
| Environment  | dpdk_compile_ovs | dpdk_compile_spdk | dpdk_meson_compile | dpdk_unit_test | dpdk_compile |
+==============+==================+===================+====================+================+==============+
| Ubuntu 18.04 | PASS             | PASS              | PASS               | PASS           | PASS         |
+--------------+------------------+-------------------+--------------------+----------------+--------------+
| CentOS 8     | PASS             | SKIPPED           | PASS               | SKIPPED        | PASS         |
+--------------+------------------+-------------------+--------------------+----------------+--------------+
| FreeBSD 11.2 | SKIPPED          | PASS              | PASS               | SKIPPED        | PASS         |
+--------------+------------------+-------------------+--------------------+----------------+--------------+

Ubuntu 18.04
	Kernel: 4.15.0-generic
	GCC: 7.4

CentOS 8
	Kernel: 4.18.0.el8_0
	GCC: 8.2

FreeBSD 11.2
	Kernel: 11.2
	GCC: 8.3

https://lab.dpdk.org/results/dashboard/patchsets/8923/

UNH-IOL DPDK Community Lab

To manage your email subscriptions visit: 
https://lab.dpdk.org/results/dashboard/preferences/subscriptions/


More information about the test-report mailing list