[dpdk-test-report] |SUCCESS| pw63922 [PATCH] examples/l2fwd-event: set RSS based on device capabilities
dpdklab at iol.unh.edu
dpdklab at iol.unh.edu
Mon Dec 16 18:57:29 CET 2019
Test-Label: iol-testing
Test-Status: SUCCESS
http://dpdk.org/patch/63922
_Testing PASS_
Submitter: Pavan Nikhilesh Bhagavatula <pbhagavatula at marvell.com>
Date: Monday, December 16 2019 05:37:36
DPDK git baseline: Repo:dpdk
Branch: master
CommitID:c3e89f69facbbfe131b6a6723665d48801ac943d
63922 --> testing pass
Test environment and result as below:
+--------------+--------------+--------------------+-------------------+----------------+------------------+
| Environment | dpdk_compile | dpdk_meson_compile | dpdk_compile_spdk | dpdk_unit_test | dpdk_compile_ovs |
+==============+==============+====================+===================+================+==================+
| Ubuntu 18.04 | PASS | PASS | PASS | PASS | PASS |
+--------------+--------------+--------------------+-------------------+----------------+------------------+
| FreeBSD 11.2 | PASS | PASS | PASS | SKIPPED | SKIPPED |
+--------------+--------------+--------------------+-------------------+----------------+------------------+
| CentOS 8 | PASS | PASS | SKIPPED | SKIPPED | SKIPPED |
+--------------+--------------+--------------------+-------------------+----------------+------------------+
Ubuntu 18.04
Kernel: 4.15.0-generic
GCC: 7.4
FreeBSD 11.2
Kernel: 11.2
GCC: 8.3
CentOS 8
Kernel: 4.18.0.el8_0
GCC: 8.2
https://lab.dpdk.org/results/dashboard/patchsets/8921/
UNH-IOL DPDK Community Lab
To manage your email subscriptions visit:
https://lab.dpdk.org/results/dashboard/preferences/subscriptions/
More information about the test-report
mailing list