[dpdk-test-report] |SUCCESS| pw63882-63917 [PATCH] [v3, 01/36] net/i40e/base: add support for feature flags

dpdklab at iol.unh.edu dpdklab at iol.unh.edu
Mon Dec 16 19:32:34 CET 2019


Test-Label: iol-testing
Test-Status: SUCCESS
http://dpdk.org/patch/63882

_Testing PASS_

Submitter: Ye Xiaolong <xiaolong.ye at intel.com>
Date: Monday, December 16 2019 02:43:01 
DPDK git baseline: Repo:dpdk
  Branch: master
  CommitID:c3e89f69facbbfe131b6a6723665d48801ac943d

63882-63917 --> testing pass

Test environment and result as below:

+--------------+-------------------+--------------+----------------+--------------------+------------------+
| Environment  | dpdk_compile_spdk | dpdk_compile | dpdk_unit_test | dpdk_meson_compile | dpdk_compile_ovs |
+==============+===================+==============+================+====================+==================+
| FreeBSD 11.2 | PASS              | PASS         | SKIPPED        | PASS               | SKIPPED          |
+--------------+-------------------+--------------+----------------+--------------------+------------------+
| Ubuntu 18.04 | PASS              | PASS         | PASS           | PASS               | PASS             |
+--------------+-------------------+--------------+----------------+--------------------+------------------+
| CentOS 8     | SKIPPED           | PASS         | SKIPPED        | PASS               | PASS             |
+--------------+-------------------+--------------+----------------+--------------------+------------------+

FreeBSD 11.2
	Kernel: 11.2
	GCC: 8.3

Ubuntu 18.04
	Kernel: 4.15.0-generic
	GCC: 7.4

CentOS 8
	Kernel: 4.18.0.el8_0
	GCC: 8.2

https://lab.dpdk.org/results/dashboard/patchsets/8917/

UNH-IOL DPDK Community Lab

To manage your email subscriptions visit: 
https://lab.dpdk.org/results/dashboard/preferences/subscriptions/


More information about the test-report mailing list