[dpdk-test-report] |SUCCESS| pw63943 [PATCH] [v2] net/vhost: fix return value of vhost creates not checked
dpdklab at iol.unh.edu
dpdklab at iol.unh.edu
Tue Dec 17 03:01:02 CET 2019
Test-Label: iol-testing
Test-Status: SUCCESS
http://dpdk.org/patch/63943
_Testing PASS_
Submitter: Yunjian Wang <wangyunjian at huawei.com>
Date: Tuesday, December 17 2019 01:36:17
DPDK git baseline: Repo:dpdk
Branch: master
CommitID:c3e89f69facbbfe131b6a6723665d48801ac943d
63943 --> testing pass
Test environment and result as below:
+--------------+--------------------+-------------------+--------------+----------------+------------------+
| Environment | dpdk_meson_compile | dpdk_compile_spdk | dpdk_compile | dpdk_unit_test | dpdk_compile_ovs |
+==============+====================+===================+==============+================+==================+
| FreeBSD 11.2 | PASS | PASS | PASS | SKIPPED | SKIPPED |
+--------------+--------------------+-------------------+--------------+----------------+------------------+
| CentOS 8 | PASS | SKIPPED | PASS | SKIPPED | PASS |
+--------------+--------------------+-------------------+--------------+----------------+------------------+
| Ubuntu 18.04 | PASS | PASS | PASS | PASS | PASS |
+--------------+--------------------+-------------------+--------------+----------------+------------------+
FreeBSD 11.2
Kernel: 11.2
GCC: 8.3
CentOS 8
Kernel: 4.18.0.el8_0
GCC: 8.2
Ubuntu 18.04
Kernel: 4.15.0-generic
GCC: 7.4
https://lab.dpdk.org/results/dashboard/patchsets/8935/
UNH-IOL DPDK Community Lab
To manage your email subscriptions visit:
https://lab.dpdk.org/results/dashboard/preferences/subscriptions/
More information about the test-report
mailing list