[dpdk-test-report] |SUCCESS| pw63954 [PATCH] [v2] cfgfile: update map file
dpdklab at iol.unh.edu
dpdklab at iol.unh.edu
Tue Dec 17 12:45:43 CET 2019
Test-Label: iol-testing
Test-Status: SUCCESS
http://dpdk.org/patch/63954
_Testing PASS_
Submitter: Liron Himi <lironh at marvell.com>
Date: Tuesday, December 17 2019 11:52:03
DPDK git baseline: Repo:dpdk
Branch: master
CommitID:c3e89f69facbbfe131b6a6723665d48801ac943d
63954 --> testing pass
Test environment and result as below:
+--------------+------------------+-------------------+--------------+----------------+--------------------+
| Environment | dpdk_compile_ovs | dpdk_compile_spdk | dpdk_compile | dpdk_unit_test | dpdk_meson_compile |
+==============+==================+===================+==============+================+====================+
| Ubuntu 18.04 | PASS | PASS | PASS | PASS | PASS |
+--------------+------------------+-------------------+--------------+----------------+--------------------+
| CentOS 8 | PASS | SKIPPED | PASS | SKIPPED | PASS |
+--------------+------------------+-------------------+--------------+----------------+--------------------+
| FreeBSD 11.2 | SKIPPED | PASS | PASS | SKIPPED | PASS |
+--------------+------------------+-------------------+--------------+----------------+--------------------+
Ubuntu 18.04
Kernel: 4.15.0-generic
GCC: 7.4
CentOS 8
Kernel: 4.18.0.el8_0
GCC: 8.2
FreeBSD 11.2
Kernel: 11.2
GCC: 8.3
https://lab.dpdk.org/results/dashboard/patchsets/8940/
UNH-IOL DPDK Community Lab
To manage your email subscriptions visit:
https://lab.dpdk.org/results/dashboard/preferences/subscriptions/
More information about the test-report
mailing list