[dpdk-test-report] |SUCCESS| [GIT MASTER] 9d3aa63d2d724aa324450375a2a0ffd46f629546
dpdklab at iol.unh.edu
dpdklab at iol.unh.edu
Tue Dec 17 16:56:29 CET 2019
_Testing PASS_
Branch: dpdk-next-net-mlx
9d3aa63d2d724aa324450375a2a0ffd46f629546 --> testing pass
Test environment and result as below:
+--------------+--------------------+-------------------+--------------+------------------+----------------+
| Environment | dpdk_meson_compile | dpdk_compile_spdk | dpdk_compile | dpdk_compile_ovs | dpdk_unit_test |
+==============+====================+===================+==============+==================+================+
| FreeBSD 11.2 | PASS | PASS | PASS | SKIPPED | SKIPPED |
+--------------+--------------------+-------------------+--------------+------------------+----------------+
| Ubuntu 18.04 | PASS | PASS | PASS | PASS | PASS |
+--------------+--------------------+-------------------+--------------+------------------+----------------+
| CentOS 8 | PASS | SKIPPED | PASS | PASS | SKIPPED |
+--------------+--------------------+-------------------+--------------+------------------+----------------+
FreeBSD 11.2
Kernel: 11.2
GCC: 8.3
Ubuntu 18.04
Kernel: 4.15.0-generic
GCC: 7.4
CentOS 8
Kernel: 4.18.0.el8_0
GCC: 8.2
https://lab.dpdk.org/results/dashboard/tarballs/7514/
UNH-IOL DPDK Community Lab
To manage your email subscriptions visit:
https://lab.dpdk.org/results/dashboard/preferences/subscriptions/
More information about the test-report
mailing list