[dpdk-test-report] |SUCCESS| pw63979 [PATCH] [v1] net/ice: add new device IDs
dpdklab at iol.unh.edu
dpdklab at iol.unh.edu
Wed Dec 18 07:31:27 CET 2019
Test-Label: iol-testing
Test-Status: SUCCESS
http://dpdk.org/patch/63979
_Testing PASS_
Submitter: Ting Xu <ting.xu at intel.com>
Date: Wednesday, December 18 2019 12:41:58
DPDK git baseline: Repo:dpdk
Branch: master
CommitID:c3e89f69facbbfe131b6a6723665d48801ac943d
63979 --> testing pass
Test environment and result as below:
+--------------+--------------------+------------------+--------------+----------------+-------------------+
| Environment | dpdk_meson_compile | dpdk_compile_ovs | dpdk_compile | dpdk_unit_test | dpdk_compile_spdk |
+==============+====================+==================+==============+================+===================+
| FreeBSD 11.2 | PASS | SKIPPED | PASS | SKIPPED | PASS |
+--------------+--------------------+------------------+--------------+----------------+-------------------+
| Ubuntu 18.04 | PASS | PASS | PASS | PASS | PASS |
+--------------+--------------------+------------------+--------------+----------------+-------------------+
| CentOS 8 | PASS | PASS | PASS | SKIPPED | SKIPPED |
+--------------+--------------------+------------------+--------------+----------------+-------------------+
FreeBSD 11.2
Kernel: 11.2
GCC: 8.3
Ubuntu 18.04
Kernel: 4.15.0-generic
GCC: 7.4
CentOS 8
Kernel: 4.18.0.el8_0
GCC: 8.2
https://lab.dpdk.org/results/dashboard/patchsets/8959/
UNH-IOL DPDK Community Lab
To manage your email subscriptions visit:
https://lab.dpdk.org/results/dashboard/preferences/subscriptions/
More information about the test-report
mailing list