[dpdk-test-report] |SUCCESS| pw63991 [PATCH] [v2] net/virtio: packed ring notification data feature support

dpdklab at iol.unh.edu dpdklab at iol.unh.edu
Wed Dec 18 10:05:04 CET 2019


Test-Label: iol-testing
Test-Status: SUCCESS
http://dpdk.org/patch/63991

_Testing PASS_

Submitter: Cheng Jiang <Cheng1.jiang at intel.com>
Date: Wednesday, December 18 2019 08:17:11 
DPDK git baseline: Repo:dpdk
  Branch: master
  CommitID:c3e89f69facbbfe131b6a6723665d48801ac943d

63991 --> testing pass

Test environment and result as below:

+--------------+------------------+-------------------+----------------+--------------+--------------------+
| Environment  | dpdk_compile_ovs | dpdk_compile_spdk | dpdk_unit_test | dpdk_compile | dpdk_meson_compile |
+==============+==================+===================+================+==============+====================+
| Ubuntu 18.04 | PASS             | PASS              | PASS           | PASS         | PASS               |
+--------------+------------------+-------------------+----------------+--------------+--------------------+
| CentOS 8     | PASS             | SKIPPED           | SKIPPED        | PASS         | PASS               |
+--------------+------------------+-------------------+----------------+--------------+--------------------+
| FreeBSD 11.2 | SKIPPED          | PASS              | SKIPPED        | PASS         | PASS               |
+--------------+------------------+-------------------+----------------+--------------+--------------------+

Ubuntu 18.04
	Kernel: 4.15.0-generic
	GCC: 7.4

CentOS 8
	Kernel: 4.18.0.el8_0
	GCC: 8.2

FreeBSD 11.2
	Kernel: 11.2
	GCC: 8.3

https://lab.dpdk.org/results/dashboard/patchsets/8964/

UNH-IOL DPDK Community Lab

To manage your email subscriptions visit: 
https://lab.dpdk.org/results/dashboard/preferences/subscriptions/


More information about the test-report mailing list