[dpdk-test-report] |SUCCESS| pw63996 [PATCH] net/mlx5: fix item flag on GENEVE item validation
dpdklab at iol.unh.edu
dpdklab at iol.unh.edu
Wed Dec 18 19:02:33 CET 2019
Test-Label: iol-testing
Test-Status: SUCCESS
http://dpdk.org/patch/63996
_Testing PASS_
Submitter: Dekel Peled <dekelp at mellanox.com>
Date: Wednesday, December 18 2019 15:09:55
DPDK git baseline: Repo:dpdk
Branch: master
CommitID:c3e89f69facbbfe131b6a6723665d48801ac943d
63996 --> testing pass
Test environment and result as below:
+--------------+--------------+-------------------+--------------------+----------------+------------------+
| Environment | dpdk_compile | dpdk_compile_spdk | dpdk_meson_compile | dpdk_unit_test | dpdk_compile_ovs |
+==============+==============+===================+====================+================+==================+
| FreeBSD 11.2 | PASS | PASS | PASS | SKIPPED | SKIPPED |
+--------------+--------------+-------------------+--------------------+----------------+------------------+
| Ubuntu 18.04 | PASS | PASS | PASS | PASS | PASS |
+--------------+--------------+-------------------+--------------------+----------------+------------------+
| CentOS 8 | PASS | SKIPPED | PASS | SKIPPED | PASS |
+--------------+--------------+-------------------+--------------------+----------------+------------------+
FreeBSD 11.2
Kernel: 11.2
GCC: 8.3
Ubuntu 18.04
Kernel: 4.15.0-generic
GCC: 7.4
CentOS 8
Kernel: 4.18.0.el8_0
GCC: 8.2
https://lab.dpdk.org/results/dashboard/patchsets/8967/
UNH-IOL DPDK Community Lab
To manage your email subscriptions visit:
https://lab.dpdk.org/results/dashboard/preferences/subscriptions/
More information about the test-report
mailing list