[dpdk-test-report] |SUCCESS| pw64005 [PATCH] [v4] vhost: add config change slave msg support
dpdklab at iol.unh.edu
dpdklab at iol.unh.edu
Thu Dec 19 10:31:23 CET 2019
Test-Label: iol-testing
Test-Status: SUCCESS
http://dpdk.org/patch/64005
_Testing PASS_
Submitter: Li Feng <fengli at smartx.com>
Date: Thursday, December 19 2019 08:54:06
DPDK git baseline: Repo:dpdk
Branch: master
CommitID:c3e89f69facbbfe131b6a6723665d48801ac943d
64005 --> testing pass
Test environment and result as below:
+--------------+------------------+--------------+--------------------+----------------+-------------------+
| Environment | dpdk_compile_ovs | dpdk_compile | dpdk_meson_compile | dpdk_unit_test | dpdk_compile_spdk |
+==============+==================+==============+====================+================+===================+
| Ubuntu 18.04 | PASS | PASS | PASS | PASS | PASS |
+--------------+------------------+--------------+--------------------+----------------+-------------------+
| CentOS 8 | PASS | PASS | PASS | SKIPPED | SKIPPED |
+--------------+------------------+--------------+--------------------+----------------+-------------------+
| FreeBSD 11.2 | SKIPPED | PASS | PASS | SKIPPED | PASS |
+--------------+------------------+--------------+--------------------+----------------+-------------------+
Ubuntu 18.04
Kernel: 4.15.0-generic
GCC: 7.4
CentOS 8
Kernel: 4.18.0.el8_0
GCC: 8.2
FreeBSD 11.2
Kernel: 11.2
GCC: 8.3
https://lab.dpdk.org/results/dashboard/patchsets/8971/
UNH-IOL DPDK Community Lab
To manage your email subscriptions visit:
https://lab.dpdk.org/results/dashboard/preferences/subscriptions/
More information about the test-report
mailing list