[dpdk-test-report] |SUCCESS| pw64007 [PATCH] mempool/octeontx: fix error handling in initialization

dpdklab at iol.unh.edu dpdklab at iol.unh.edu
Thu Dec 19 12:30:10 CET 2019


Test-Label: iol-testing
Test-Status: SUCCESS
http://dpdk.org/patch/64007

_Testing PASS_

Submitter: Krzysztof Kanas <kkanas at marvell.com>
Date: Thursday, December 19 2019 10:44:34 
DPDK git baseline: Repo:dpdk
  Branch: master
  CommitID:c3e89f69facbbfe131b6a6723665d48801ac943d

64007 --> testing pass

Test environment and result as below:

+--------------+--------------+--------------------+-------------------+----------------+------------------+
| Environment  | dpdk_compile | dpdk_meson_compile | dpdk_compile_spdk | dpdk_unit_test | dpdk_compile_ovs |
+==============+==============+====================+===================+================+==================+
| FreeBSD 11.2 | PASS         | PASS               | PASS              | SKIPPED        | SKIPPED          |
+--------------+--------------+--------------------+-------------------+----------------+------------------+
| CentOS 8     | PASS         | PASS               | SKIPPED           | SKIPPED        | PASS             |
+--------------+--------------+--------------------+-------------------+----------------+------------------+
| Ubuntu 18.04 | PASS         | PASS               | PASS              | PASS           | PASS             |
+--------------+--------------+--------------------+-------------------+----------------+------------------+

FreeBSD 11.2
	Kernel: 11.2
	GCC: 8.3

CentOS 8
	Kernel: 4.18.0.el8_0
	GCC: 8.2

Ubuntu 18.04
	Kernel: 4.15.0-generic
	GCC: 7.4

https://lab.dpdk.org/results/dashboard/patchsets/8973/

UNH-IOL DPDK Community Lab

To manage your email subscriptions visit: 
https://lab.dpdk.org/results/dashboard/preferences/subscriptions/


More information about the test-report mailing list