[dpdk-test-report] |SUCCESS| pw64008-64010 [PATCH] [v2, 1/3] eal: introduce structure marker typedefs

dpdklab at iol.unh.edu dpdklab at iol.unh.edu
Thu Dec 19 13:01:01 CET 2019


Test-Label: iol-testing
Test-Status: SUCCESS
http://dpdk.org/patch/64008

_Testing PASS_

Submitter: Jerin Jacob Kollanukkaran <jerinj at marvell.com>
Date: Thursday, December 19 2019 11:25:05 
DPDK git baseline: Repo:dpdk
  Branch: master
  CommitID:c3e89f69facbbfe131b6a6723665d48801ac943d

64008-64010 --> testing pass

Test environment and result as below:

+--------------+--------------------+-------------------+------------------+--------------+----------------+
| Environment  | dpdk_meson_compile | dpdk_compile_spdk | dpdk_compile_ovs | dpdk_compile | dpdk_unit_test |
+==============+====================+===================+==================+==============+================+
| Ubuntu 18.04 | PASS               | PASS              | PASS             | PASS         | PASS           |
+--------------+--------------------+-------------------+------------------+--------------+----------------+
| FreeBSD 11.2 | PASS               | PASS              | SKIPPED          | PASS         | SKIPPED        |
+--------------+--------------------+-------------------+------------------+--------------+----------------+
| CentOS 8     | PASS               | SKIPPED           | PASS             | PASS         | SKIPPED        |
+--------------+--------------------+-------------------+------------------+--------------+----------------+

Ubuntu 18.04
	Kernel: 4.15.0-generic
	GCC: 7.4

FreeBSD 11.2
	Kernel: 11.2
	GCC: 8.3

CentOS 8
	Kernel: 4.18.0.el8_0
	GCC: 8.2

https://lab.dpdk.org/results/dashboard/patchsets/8974/

UNH-IOL DPDK Community Lab

To manage your email subscriptions visit: 
https://lab.dpdk.org/results/dashboard/preferences/subscriptions/


More information about the test-report mailing list