[dpdk-test-report] |SUCCESS| [GIT MASTER] a2bb837659761a71bb0a48cb1b0457a1d682bd61
dpdklab at iol.unh.edu
dpdklab at iol.unh.edu
Thu Dec 19 16:42:09 CET 2019
_Testing PASS_
Branch: dpdk-next-net-mlx
a2bb837659761a71bb0a48cb1b0457a1d682bd61 --> testing pass
Test environment and result as below:
+--------------+--------------+------------------+--------------------+----------------+-------------------+
| Environment | dpdk_compile | dpdk_compile_ovs | dpdk_meson_compile | dpdk_unit_test | dpdk_compile_spdk |
+==============+==============+==================+====================+================+===================+
| FreeBSD 11.2 | PASS | SKIPPED | PASS | SKIPPED | PASS |
+--------------+--------------+------------------+--------------------+----------------+-------------------+
| Ubuntu 18.04 | PASS | PASS | PASS | PASS | PASS |
+--------------+--------------+------------------+--------------------+----------------+-------------------+
| CentOS 8 | PASS | PASS | PASS | SKIPPED | SKIPPED |
+--------------+--------------+------------------+--------------------+----------------+-------------------+
FreeBSD 11.2
Kernel: 11.2
GCC: 8.3
Ubuntu 18.04
Kernel: 4.15.0-generic
GCC: 7.4
CentOS 8
Kernel: 4.18.0.el8_0
GCC: 8.2
https://lab.dpdk.org/results/dashboard/tarballs/7539/
UNH-IOL DPDK Community Lab
To manage your email subscriptions visit:
https://lab.dpdk.org/results/dashboard/preferences/subscriptions/
More information about the test-report
mailing list