[dpdk-test-report] |SUCCESS| [GIT MASTER] f26c2b39b271cdcd857ba518c5e48c78cb1c30af
dpdklab at iol.unh.edu
dpdklab at iol.unh.edu
Fri Dec 20 00:18:38 CET 2019
_Testing PASS_
Branch: dpdk
f26c2b39b271cdcd857ba518c5e48c78cb1c30af --> testing pass
Test environment and result as below:
+--------------+----------------+------------------+-------------------+--------------+--------------------+
| Environment | dpdk_unit_test | dpdk_compile_ovs | dpdk_compile_spdk | dpdk_compile | dpdk_meson_compile |
+==============+================+==================+===================+==============+====================+
| Ubuntu 18.04 | PASS | PASS | PASS | PASS | PASS |
+--------------+----------------+------------------+-------------------+--------------+--------------------+
| CentOS 8 | SKIPPED | PASS | SKIPPED | PASS | PASS |
+--------------+----------------+------------------+-------------------+--------------+--------------------+
| FreeBSD 11.2 | SKIPPED | SKIPPED | PASS | PASS | PASS |
+--------------+----------------+------------------+-------------------+--------------+--------------------+
Ubuntu 18.04
Kernel: 4.15.0-generic
GCC: 7.4
CentOS 8
Kernel: 4.18.0.el8_0
GCC: 8.2
FreeBSD 11.2
Kernel: 11.2
GCC: 8.3
https://lab.dpdk.org/results/dashboard/tarballs/7542/
UNH-IOL DPDK Community Lab
To manage your email subscriptions visit:
https://lab.dpdk.org/results/dashboard/preferences/subscriptions/
More information about the test-report
mailing list