[dpdk-test-report] |SUCCESS| [GIT MASTER] 91d6fe1c97a9b0cb7dd0fa41c44c3c5426c532be

dpdklab at iol.unh.edu dpdklab at iol.unh.edu
Fri Dec 20 01:35:09 CET 2019


_Testing PASS_

Branch: dpdk-next-net-intel

91d6fe1c97a9b0cb7dd0fa41c44c3c5426c532be --> testing pass

Test environment and result as below:

+--------------+--------------+-------------------+------------------+----------------+--------------------+
| Environment  | dpdk_compile | dpdk_compile_spdk | dpdk_compile_ovs | dpdk_unit_test | dpdk_meson_compile |
+==============+==============+===================+==================+================+====================+
| Ubuntu 18.04 | PASS         | PASS              | PASS             | PASS           | PASS               |
+--------------+--------------+-------------------+------------------+----------------+--------------------+
| FreeBSD 11.2 | PASS         | PASS              | SKIPPED          | SKIPPED        | PASS               |
+--------------+--------------+-------------------+------------------+----------------+--------------------+
| CentOS 8     | PASS         | SKIPPED           | PASS             | SKIPPED        | PASS               |
+--------------+--------------+-------------------+------------------+----------------+--------------------+

Ubuntu 18.04
	Kernel: 4.15.0-generic
	GCC: 7.4

FreeBSD 11.2
	Kernel: 11.2
	GCC: 8.3

CentOS 8
	Kernel: 4.18.0.el8_0
	GCC: 8.2

https://lab.dpdk.org/results/dashboard/tarballs/7543/

UNH-IOL DPDK Community Lab

To manage your email subscriptions visit: 
https://lab.dpdk.org/results/dashboard/preferences/subscriptions/


More information about the test-report mailing list