[dpdk-test-report] |SUCCESS| pw64084 [PATCH] add ABI checks

dpdklab at iol.unh.edu dpdklab at iol.unh.edu
Fri Dec 20 17:01:26 CET 2019


Test-Label: iol-testing
Test-Status: SUCCESS
http://dpdk.org/patch/64084

_Testing PASS_

Submitter: David Marchand <david.marchand at redhat.com>
Date: Friday, December 20 2019 15:20:58 
DPDK git baseline: Repo:dpdk
  Branch: master
  CommitID:f26c2b39b271cdcd857ba518c5e48c78cb1c30af

64084 --> testing pass

Test environment and result as below:

+--------------+-------------------+------------------+--------------+----------------+--------------------+
| Environment  | dpdk_compile_spdk | dpdk_compile_ovs | dpdk_compile | dpdk_unit_test | dpdk_meson_compile |
+==============+===================+==================+==============+================+====================+
| Ubuntu 18.04 | PASS              | PASS             | PASS         | PASS           | PASS               |
+--------------+-------------------+------------------+--------------+----------------+--------------------+
| FreeBSD 11.2 | PASS              | SKIPPED          | PASS         | SKIPPED        | PASS               |
+--------------+-------------------+------------------+--------------+----------------+--------------------+
| CentOS 8     | SKIPPED           | PASS             | PASS         | SKIPPED        | PASS               |
+--------------+-------------------+------------------+--------------+----------------+--------------------+

Ubuntu 18.04
	Kernel: 4.15.0-generic
	GCC: 7.4

FreeBSD 11.2
	Kernel: 11.2
	GCC: 8.3

CentOS 8
	Kernel: 4.18.0.el8_0
	GCC: 8.2

https://lab.dpdk.org/results/dashboard/patchsets/8996/

UNH-IOL DPDK Community Lab

To manage your email subscriptions visit: 
https://lab.dpdk.org/results/dashboard/preferences/subscriptions/


More information about the test-report mailing list