[dpdk-test-report] |SUCCESS| pw64099-64103 [PATCH] [v3, 1/9] net/hns3: support Rx interrupt
dpdklab at iol.unh.edu
dpdklab at iol.unh.edu
Sun Dec 22 02:25:44 CET 2019
Test-Label: iol-testing
Test-Status: SUCCESS
http://dpdk.org/patch/64099
_Testing PASS_
Submitter: Wei Hu (Xavier) <huwei013 at chinasoftinc.com>
Date: Saturday, December 21 2019 10:32:45
DPDK git baseline: Repo:dpdk
Branch: master
CommitID:2e088e6f94b773233c06440763c1be43d0d705b3
64099-64103 --> testing pass
Test environment and result as below:
+--------------+--------------+--------------------+-------------------+------------------+----------------+
| Environment | dpdk_compile | dpdk_meson_compile | dpdk_compile_spdk | dpdk_compile_ovs | dpdk_unit_test |
+==============+==============+====================+===================+==================+================+
| FreeBSD 11.2 | PASS | PASS | PASS | SKIPPED | SKIPPED |
+--------------+--------------+--------------------+-------------------+------------------+----------------+
| Ubuntu 18.04 | PASS | PASS | PASS | PASS | PASS |
+--------------+--------------+--------------------+-------------------+------------------+----------------+
| Fedora 31 | PASS | PASS | SKIPPED | PASS | SKIPPED |
+--------------+--------------+--------------------+-------------------+------------------+----------------+
| CentOS 8 | PASS | PASS | SKIPPED | PASS | SKIPPED |
+--------------+--------------+--------------------+-------------------+------------------+----------------+
FreeBSD 11.2
Kernel: 11.2
GCC: 8.3
Ubuntu 18.04
Kernel: 4.15.0-generic
GCC: 7.4
Fedora 31
Kernel: 5.3.16
GCC: 9.2.1
CentOS 8
Kernel: 4.18.0.el8_0
GCC: 8.2
https://lab.dpdk.org/results/dashboard/patchsets/9007/
UNH-IOL DPDK Community Lab
To manage your email subscriptions visit:
https://lab.dpdk.org/results/dashboard/preferences/subscriptions/
More information about the test-report
mailing list