[dpdk-test-report] |SUCCESS| pw64113 [PATCH] [v2] net/iavf: fix virtual channel return value error

dpdklab at iol.unh.edu dpdklab at iol.unh.edu
Mon Dec 23 08:59:54 CET 2019


Test-Label: iol-testing
Test-Status: SUCCESS
http://dpdk.org/patch/64113

_Testing PASS_

Submitter: Yahui Cao <yahui.cao at intel.com>
Date: Monday, December 23 2019 07:11:36 
DPDK git baseline: Repo:dpdk
  Branch: master
  CommitID:2e088e6f94b773233c06440763c1be43d0d705b3

64113 --> testing pass

Test environment and result as below:

+--------------+-------------------+--------------------+------------------+--------------+----------------+
| Environment  | dpdk_compile_spdk | dpdk_meson_compile | dpdk_compile_ovs | dpdk_compile | dpdk_unit_test |
+==============+===================+====================+==================+==============+================+
| Ubuntu 18.04 | PASS              | PASS               | PASS             | PASS         | PASS           |
+--------------+-------------------+--------------------+------------------+--------------+----------------+
| FreeBSD 11.2 | PASS              | PASS               | SKIPPED          | PASS         | SKIPPED        |
+--------------+-------------------+--------------------+------------------+--------------+----------------+
| Fedora 31    | SKIPPED           | PASS               | PASS             | PASS         | SKIPPED        |
+--------------+-------------------+--------------------+------------------+--------------+----------------+
| CentOS 8     | SKIPPED           | PASS               | PASS             | PASS         | SKIPPED        |
+--------------+-------------------+--------------------+------------------+--------------+----------------+

Ubuntu 18.04
	Kernel: 4.15.0-generic
	GCC: 7.4

FreeBSD 11.2
	Kernel: 11.2
	GCC: 8.3

Fedora 31
	Kernel: 5.3.16
	GCC: 9.2.1

CentOS 8
	Kernel: 4.18.0.el8_0
	GCC: 8.2

https://lab.dpdk.org/results/dashboard/patchsets/9013/

UNH-IOL DPDK Community Lab

To manage your email subscriptions visit: 
https://lab.dpdk.org/results/dashboard/preferences/subscriptions/


More information about the test-report mailing list