[dpdk-test-report] |SUCCESS| pw64115 [PATCH] [v2] net/ixgbe: add support for VF MAC address add and remove
dpdklab at iol.unh.edu
dpdklab at iol.unh.edu
Mon Dec 23 10:52:50 CET 2019
Test-Label: iol-testing
Test-Status: SUCCESS
http://dpdk.org/patch/64115
_Testing PASS_
Submitter: Guinan Sun <guinanx.sun at intel.com>
Date: Monday, December 23 2019 09:12:46
DPDK git baseline: Repo:dpdk
Branch: master
CommitID:2e088e6f94b773233c06440763c1be43d0d705b3
64115 --> testing pass
Test environment and result as below:
+--------------+--------------------+--------------+-------------------+------------------+----------------+
| Environment | dpdk_meson_compile | dpdk_compile | dpdk_compile_spdk | dpdk_compile_ovs | dpdk_unit_test |
+==============+====================+==============+===================+==================+================+
| Ubuntu 18.04 | PASS | PASS | PASS | PASS | PASS |
+--------------+--------------------+--------------+-------------------+------------------+----------------+
| Fedora 31 | PASS | PASS | SKIPPED | PASS | SKIPPED |
+--------------+--------------------+--------------+-------------------+------------------+----------------+
| CentOS 8 | PASS | PASS | SKIPPED | PASS | SKIPPED |
+--------------+--------------------+--------------+-------------------+------------------+----------------+
| FreeBSD 11.2 | PASS | PASS | PASS | SKIPPED | SKIPPED |
+--------------+--------------------+--------------+-------------------+------------------+----------------+
Ubuntu 18.04
Kernel: 4.15.0-generic
GCC: 7.4
Fedora 31
Kernel: 5.3.16
GCC: 9.2.1
CentOS 8
Kernel: 4.18.0.el8_0
GCC: 8.2
FreeBSD 11.2
Kernel: 11.2
GCC: 8.3
https://lab.dpdk.org/results/dashboard/patchsets/9015/
UNH-IOL DPDK Community Lab
To manage your email subscriptions visit:
https://lab.dpdk.org/results/dashboard/preferences/subscriptions/
More information about the test-report
mailing list